BEGIN:VCALENDAR
VERSION:2.0
PRODID:-//Wonder Shows - ECPv6.11.2//NONSGML v1.0//EN
CALSCALE:GREGORIAN
METHOD:PUBLISH
X-WR-CALNAME:Wonder Shows
X-ORIGINAL-URL:http://ip212.ip-192-99-176.net
X-WR-CALDESC:Events for Wonder Shows
REFRESH-INTERVAL;VALUE=DURATION:PT1H
X-Robots-Tag:noindex
X-PUBLISHED-TTL:PT1H
BEGIN:VTIMEZONE
TZID:America/Winnipeg
BEGIN:DAYLIGHT
TZOFFSETFROM:-0600
TZOFFSETTO:-0500
TZNAME:CDT
DTSTART:20260308T080000
END:DAYLIGHT
BEGIN:STANDARD
TZOFFSETFROM:-0500
TZOFFSETTO:-0600
TZNAME:CST
DTSTART:20261101T070000
END:STANDARD
END:VTIMEZONE
BEGIN:VEVENT
DTSTART;TZID=America/Winnipeg:20260807T170000
DTEND;TZID=America/Winnipeg:20260807T230000
DTSTAMP:20260421T040333
CREATED:20260410T161044Z
LAST-MODIFIED:20260420T164615Z
UID:10000712-1786122000-1786143600@ip212.ip-192-99-176.net
SUMMARY:Winkler Harvest Festival
DESCRIPTION:🎡 Winkler Harvest Festival 🎡 \nRides\, Games & Tons of Family Carnival Fun await you at the 2026 Winkler Harvest Festival! \n🗓 Event Dates: August 7th – August 9th\, 2026 \nHours: \n\nFriday\, August 7th: 5pm–11pm\nSaturday\, August 8th: 12pm–11pm\nSunday\, August 9th: 12pm–11pm\n\n📍 Location: Winkler\, Manitoba \n🎟 Ride Wristbands: \n\n$40.00 Cash\n$42.00 Debit/Credit\nCoupons Available — See wondershows.com/tickets for pricing
URL:http://ip212.ip-192-99-176.net/event/winkler-harvest-festival/2026-08-07/
LOCATION:Winkler\, Manitoba\, Winkler\, Manitoba\, Canada
CATEGORIES:2026 Events
GEO:49.1801103;-97.9389474
END:VEVENT
BEGIN:VEVENT
DTSTART;TZID=America/Winnipeg:20260808T120000
DTEND;TZID=America/Winnipeg:20260808T230000
DTSTAMP:20260421T040333
CREATED:20260410T161044Z
LAST-MODIFIED:20260420T164615Z
UID:10000713-1786190400-1786230000@ip212.ip-192-99-176.net
SUMMARY:Winkler Harvest Festival
DESCRIPTION:🎡 Winkler Harvest Festival 🎡 \nRides\, Games & Tons of Family Carnival Fun await you at the 2026 Winkler Harvest Festival! \n🗓 Event Dates: August 7th – August 9th\, 2026 \nHours: \n\nFriday\, August 7th: 5pm–11pm\nSaturday\, August 8th: 12pm–11pm\nSunday\, August 9th: 12pm–11pm\n\n📍 Location: Winkler\, Manitoba \n🎟 Ride Wristbands: \n\n$40.00 Cash\n$42.00 Debit/Credit\nCoupons Available — See wondershows.com/tickets for pricing
URL:http://ip212.ip-192-99-176.net/event/winkler-harvest-festival/2026-08-08/
LOCATION:Winkler\, Manitoba\, Winkler\, Manitoba\, Canada
CATEGORIES:2026 Events
GEO:49.1801103;-97.9389474
END:VEVENT
BEGIN:VEVENT
DTSTART;TZID=America/Winnipeg:20260809T120000
DTEND;TZID=America/Winnipeg:20260809T230000
DTSTAMP:20260421T040333
CREATED:20260410T161044Z
LAST-MODIFIED:20260420T164615Z
UID:10000714-1786276800-1786316400@ip212.ip-192-99-176.net
SUMMARY:Winkler Harvest Festival
DESCRIPTION:🎡 Winkler Harvest Festival 🎡 \nRides\, Games & Tons of Family Carnival Fun await you at the 2026 Winkler Harvest Festival! \n🗓 Event Dates: August 7th – August 9th\, 2026 \nHours: \n\nFriday\, August 7th: 5pm–11pm\nSaturday\, August 8th: 12pm–11pm\nSunday\, August 9th: 12pm–11pm\n\n📍 Location: Winkler\, Manitoba \n🎟 Ride Wristbands: \n\n$40.00 Cash\n$42.00 Debit/Credit\nCoupons Available — See wondershows.com/tickets for pricing
URL:http://ip212.ip-192-99-176.net/event/winkler-harvest-festival/2026-08-09/
LOCATION:Winkler\, Manitoba\, Winkler\, Manitoba\, Canada
CATEGORIES:2026 Events
GEO:49.1801103;-97.9389474
END:VEVENT
END:VCALENDAR